BEGIN:VCALENDAR
VERSION:2.0
PRODID:-//Stow on the Wold Town Council - ECPv6.15.20//NONSGML v1.0//EN
CALSCALE:GREGORIAN
METHOD:PUBLISH
X-WR-CALNAME:Stow on the Wold Town Council
X-ORIGINAL-URL:https://stowonthewold-tc.gov.uk
X-WR-CALDESC:Events for Stow on the Wold Town Council
REFRESH-INTERVAL;VALUE=DURATION:PT1H
X-Robots-Tag:noindex
X-PUBLISHED-TTL:PT1H
BEGIN:VTIMEZONE
TZID:Europe/London
BEGIN:DAYLIGHT
TZOFFSETFROM:+0000
TZOFFSETTO:+0100
TZNAME:BST
DTSTART:20190331T010000
END:DAYLIGHT
BEGIN:STANDARD
TZOFFSETFROM:+0100
TZOFFSETTO:+0000
TZNAME:GMT
DTSTART:20191027T010000
END:STANDARD
BEGIN:DAYLIGHT
TZOFFSETFROM:+0000
TZOFFSETTO:+0100
TZNAME:BST
DTSTART:20200329T010000
END:DAYLIGHT
BEGIN:STANDARD
TZOFFSETFROM:+0100
TZOFFSETTO:+0000
TZNAME:GMT
DTSTART:20201025T010000
END:STANDARD
BEGIN:DAYLIGHT
TZOFFSETFROM:+0000
TZOFFSETTO:+0100
TZNAME:BST
DTSTART:20210328T010000
END:DAYLIGHT
BEGIN:STANDARD
TZOFFSETFROM:+0100
TZOFFSETTO:+0000
TZNAME:GMT
DTSTART:20211031T010000
END:STANDARD
BEGIN:DAYLIGHT
TZOFFSETFROM:+0000
TZOFFSETTO:+0100
TZNAME:BST
DTSTART:20220327T010000
END:DAYLIGHT
BEGIN:STANDARD
TZOFFSETFROM:+0100
TZOFFSETTO:+0000
TZNAME:GMT
DTSTART:20221030T010000
END:STANDARD
END:VTIMEZONE
BEGIN:VEVENT
DTSTART;TZID=Europe/London:20210121T193000
DTEND;TZID=Europe/London:20210121T193000
DTSTAMP:20260422T231136
CREATED:20201216T164645Z
LAST-MODIFIED:20210203T111058Z
UID:1701-1611257400-1611257400@stowonthewold-tc.gov.uk
SUMMARY:Parks & Square Committee Meeting
DESCRIPTION:This meeting will be held online via Zoom\, members of the public are welcome to attend. Please contact the Clerk for joining details.
URL:https://stowonthewold-tc.gov.uk/event/parks-square-committee-meeting/
LOCATION:Online
CATEGORIES:Town Council Meeting
ORGANIZER;CN="Stow on the Wold Town Council":MAILTO:info@stowonthewold-tc.gov.uk
END:VEVENT
BEGIN:VEVENT
DTSTART;TZID=Europe/London:20210120T103000
DTEND;TZID=Europe/London:20210120T103000
DTSTAMP:20260422T231136
CREATED:20201216T164341Z
LAST-MODIFIED:20210112T160403Z
UID:1695-1611138600-1611138600@stowonthewold-tc.gov.uk
SUMMARY:Burial Board Meeting via Zoom
DESCRIPTION:
URL:https://stowonthewold-tc.gov.uk/event/burial-board-meeting-via-zoom/
LOCATION:Stow Youth Centre\, Fosseway\, Stow on the Wold\, Gloucestershire\, GL54 1DW\, United Kingdom
CATEGORIES:Town Council Meeting
ORGANIZER;CN="Stow on the Wold Town Council":MAILTO:info@stowonthewold-tc.gov.uk
END:VEVENT
BEGIN:VEVENT
DTSTART;TZID=Europe/London:20210112T200000
DTEND;TZID=Europe/London:20210112T200000
DTSTAMP:20260422T231136
CREATED:20201216T164057Z
LAST-MODIFIED:20201216T164157Z
UID:1689-1610481600-1610481600@stowonthewold-tc.gov.uk
SUMMARY:Planning Traffic & Parking Committee meeting via Zoom
DESCRIPTION:This meeting will be held online via Zoom\, members of the public are welcome to attend. Please contact the Clerk for joining details.
URL:https://stowonthewold-tc.gov.uk/event/planning-traffic-parking-committee-meeting-via-zoom/
LOCATION:Online
CATEGORIES:Town Council Meeting
ORGANIZER;CN="Stow on the Wold Town Council":MAILTO:info@stowonthewold-tc.gov.uk
END:VEVENT
BEGIN:VEVENT
DTSTART;TZID=Europe/London:20201217T200000
DTEND;TZID=Europe/London:20201217T200000
DTSTAMP:20260422T231136
CREATED:20201012T140046Z
LAST-MODIFIED:20210112T160617Z
UID:1158-1608235200-1608235200@stowonthewold-tc.gov.uk
SUMMARY:Town Council Meeting
DESCRIPTION:All council meetings are being held via Zoom until further notice due to Covid 19 pandemic.  Members of the public/press are welcome to attend and you will find the link to the meeting at the top of the agenda which if you click will allow you to join the meeting.
URL:https://stowonthewold-tc.gov.uk/event/town-council-meeting-3/
LOCATION:Stow Youth Centre\, Fosseway\, Stow on the Wold\, Gloucestershire\, GL54 1DW\, United Kingdom
CATEGORIES:Town Council Meeting
ORGANIZER;CN="Stow on the Wold Town Council":MAILTO:info@stowonthewold-tc.gov.uk
END:VEVENT
BEGIN:VEVENT
DTSTART;TZID=Europe/London:20201210T103000
DTEND;TZID=Europe/London:20201210T103000
DTSTAMP:20260422T231136
CREATED:20201012T135935Z
LAST-MODIFIED:20201012T135954Z
UID:1155-1607596200-1607596200@stowonthewold-tc.gov.uk
SUMMARY:Farmers Market
DESCRIPTION:
URL:https://stowonthewold-tc.gov.uk/event/farmers-market-2/
LOCATION:The Square\, The Square\, Stow on the Wold\, Gloucestershire\, GL54 1AF\, United Kingdom
CATEGORIES:Local Events
ORGANIZER;CN="Stow on the Wold Town Council":MAILTO:info@stowonthewold-tc.gov.uk
END:VEVENT
BEGIN:VEVENT
DTSTART;TZID=Europe/London:20201126T190000
DTEND;TZID=Europe/London:20201126T190000
DTSTAMP:20260422T231136
CREATED:20201012T135718Z
LAST-MODIFIED:20210104T181247Z
UID:1153-1606417200-1606417200@stowonthewold-tc.gov.uk
SUMMARY:Town Council Meeting
DESCRIPTION:All council meetings are being held via Zoom until further notice due to Covid 19 pandemic.  Members of the public/press are welcome to attend and you will find the link to the meeting at the top of the agenda which if you click will allow you to join the meeting.
URL:https://stowonthewold-tc.gov.uk/event/town-council-meeting-2/
LOCATION:Stow Youth Centre\, Fosseway\, Stow on the Wold\, Gloucestershire\, GL54 1DW\, United Kingdom
CATEGORIES:Town Council Meeting
ORGANIZER;CN="Stow on the Wold Town Council":MAILTO:info@stowonthewold-tc.gov.uk
END:VEVENT
BEGIN:VEVENT
DTSTART;TZID=Europe/London:20201112T103000
DTEND;TZID=Europe/London:20201112T103000
DTSTAMP:20260422T231136
CREATED:20201012T135537Z
LAST-MODIFIED:20201012T135537Z
UID:1151-1605177000-1605177000@stowonthewold-tc.gov.uk
SUMMARY:Finance & General Purpose Meeting via Zoom
DESCRIPTION:
URL:https://stowonthewold-tc.gov.uk/event/finance-general-purpose-meeting-via-zoom/
LOCATION:Online
CATEGORIES:Town Council Meeting
ORGANIZER;CN="Stow on the Wold Town Council":MAILTO:info@stowonthewold-tc.gov.uk
END:VEVENT
BEGIN:VEVENT
DTSTART;TZID=Europe/London:20201112T100000
DTEND;TZID=Europe/London:20201112T100000
DTSTAMP:20260422T231136
CREATED:20201012T135354Z
LAST-MODIFIED:20201012T135354Z
UID:1148-1605175200-1605175200@stowonthewold-tc.gov.uk
SUMMARY:Farmers Market
DESCRIPTION:
URL:https://stowonthewold-tc.gov.uk/event/farmers-market/
LOCATION:The Square\, The Square\, Stow on the Wold\, Gloucestershire\, GL54 1AF\, United Kingdom
CATEGORIES:Local Events
END:VEVENT
BEGIN:VEVENT
DTSTART;TZID=Europe/London:20201106T180000
DTEND;TZID=Europe/London:20201106T180000
DTSTAMP:20260422T231136
CREATED:20201012T135111Z
LAST-MODIFIED:20201012T141751Z
UID:1146-1604685600-1604685600@stowonthewold-tc.gov.uk
SUMMARY:Stow Bonfire & Fireworks Event
DESCRIPTION:Events Cancelled
URL:https://stowonthewold-tc.gov.uk/event/stow-bonfire-fireworks-event/
LOCATION:Gloucestershire
CATEGORIES:Local Events
END:VEVENT
BEGIN:VEVENT
DTSTART;TZID=Europe/London:20201029T200000
DTEND;TZID=Europe/London:20201029T200000
DTSTAMP:20260422T231136
CREATED:20201012T123600Z
LAST-MODIFIED:20201209T163653Z
UID:1134-1604001600-1604001600@stowonthewold-tc.gov.uk
SUMMARY:Town Council Meeting via Zoom
DESCRIPTION:All council meetings are being held via Zoom until further notice due to Covid 19 pandemic.  Members of the public/press are welcome to attend and you will find the link to the meeting at the top of the agenda which if you click will allow you to join the meeting.
URL:https://stowonthewold-tc.gov.uk/event/town-council-meeting-via-zoom-2/
LOCATION:Stow Youth Centre\, Fosseway\, Stow on the Wold\, Gloucestershire\, GL54 1DW\, United Kingdom
CATEGORIES:Town Council Meeting
ORGANIZER;CN="Stow on the Wold Town Council":MAILTO:info@stowonthewold-tc.gov.uk
END:VEVENT
BEGIN:VEVENT
DTSTART;TZID=Europe/London:20201014T103000
DTEND;TZID=Europe/London:20201014T103000
DTSTAMP:20260422T231136
CREATED:20201012T124148Z
LAST-MODIFIED:20201209T163515Z
UID:1136-1602671400-1602671400@stowonthewold-tc.gov.uk
SUMMARY:Burial Meeting via Zoom
DESCRIPTION:
URL:https://stowonthewold-tc.gov.uk/event/burial-meeting-via-zoom/
LOCATION:Stow Youth Centre\, Fosseway\, Stow on the Wold\, Gloucestershire\, GL54 1DW\, United Kingdom
CATEGORIES:Town Council Meeting
ORGANIZER;CN="Stow on the Wold Town Council":MAILTO:info@stowonthewold-tc.gov.uk
END:VEVENT
BEGIN:VEVENT
DTSTART;TZID=Europe/London:20201008T100000
DTEND;TZID=Europe/London:20201008T100000
DTSTAMP:20260422T231136
CREATED:20201012T125155Z
LAST-MODIFIED:20201012T125155Z
UID:1140-1602151200-1602151200@stowonthewold-tc.gov.uk
SUMMARY:Farmers Market Meeting
DESCRIPTION:This meeting will be held online via Zoom\, members of the public are welcome to attend. Please contact the Clerk for joining details.
URL:https://stowonthewold-tc.gov.uk/event/farmers-market-meeting/
LOCATION:The Square\, The Square\, Stow on the Wold\, Gloucestershire\, GL54 1AF\, United Kingdom
CATEGORIES:Local Events
ORGANIZER;CN="Stow on the Wold Town Council":MAILTO:info@stowonthewold-tc.gov.uk
END:VEVENT
BEGIN:VEVENT
DTSTART;TZID=Europe/London:20201006T160000
DTEND;TZID=Europe/London:20201006T160000
DTSTAMP:20260422T231136
CREATED:20201012T125522Z
LAST-MODIFIED:20201012T125522Z
UID:1142-1602000000-1602000000@stowonthewold-tc.gov.uk
SUMMARY:Planning Traffic & Parking Committee Meeting
DESCRIPTION:
URL:https://stowonthewold-tc.gov.uk/event/planning-traffic-parking-committee-meeting/
LOCATION:Online
CATEGORIES:Town Council Meeting
ORGANIZER;CN="Stow on the Wold Town Council":MAILTO:info@stowonthewold-tc.gov.uk
END:VEVENT
BEGIN:VEVENT
DTSTART;TZID=Europe/London:20200924T160000
DTEND;TZID=Europe/London:20200924T160000
DTSTAMP:20260422T231136
CREATED:20200811T002407Z
LAST-MODIFIED:20201209T163547Z
UID:1121-1600963200-1600963200@stowonthewold-tc.gov.uk
SUMMARY:Town Council Meeting
DESCRIPTION:All council meetings are being held via Zoom until further notice due to Covid 19 pandemic.  Members of the public/press are welcome to attend and you will find the link to the meeting at the top of the agenda which if you click will allow you to join the meeting.
URL:https://stowonthewold-tc.gov.uk/event/town-council-meeting/
LOCATION:Stow Youth Centre\, Fosseway\, Stow on the Wold\, Gloucestershire\, GL54 1DW\, United Kingdom
CATEGORIES:Town Council Meeting
ORGANIZER;CN="Stow on the Wold Town Council":MAILTO:info@stowonthewold-tc.gov.uk
END:VEVENT
BEGIN:VEVENT
DTSTART;TZID=Europe/London:20200528T040000
DTEND;TZID=Europe/London:20200528T040000
DTSTAMP:20260422T231136
CREATED:20200519T135759Z
LAST-MODIFIED:20201209T163747Z
UID:1088-1590638400-1590638400@stowonthewold-tc.gov.uk
SUMMARY:Town Council Meeting via Zoom
DESCRIPTION:Following the government advice physical meetings have been cancelled and meetings are now being held online\, via Zoom. Please contact the Clerk if you would like meeting details.
URL:https://stowonthewold-tc.gov.uk/event/town-council-meeting-via-zoom/
LOCATION:Stow Youth Centre\, Fosseway\, Stow on the Wold\, Gloucestershire\, GL54 1DW\, United Kingdom
CATEGORIES:Town Council Meeting
ORGANIZER;CN="Stow on the Wold Town Council":MAILTO:info@stowonthewold-tc.gov.uk
END:VEVENT
BEGIN:VEVENT
DTSTART;TZID=Europe/London:20200429T200000
DTEND;TZID=Europe/London:20200429T200000
DTSTAMP:20260422T231136
CREATED:20201012T140614Z
LAST-MODIFIED:20201012T140614Z
UID:1167-1588190400-1588190400@stowonthewold-tc.gov.uk
SUMMARY:Town Council Meeting via Zoom
DESCRIPTION:This meeting will be held online via Zoom\, members of the public are welcome to attend. Please contact the Clerk for joining details.
URL:https://stowonthewold-tc.gov.uk/event/town-council-meeting-via-zoom-6/
LOCATION:Online
CATEGORIES:Town Council Meeting
ORGANIZER;CN="Stow on the Wold Town Council":MAILTO:info@stowonthewold-tc.gov.uk
END:VEVENT
END:VCALENDAR