BEGIN:VCALENDAR
VERSION:2.0
PRODID:-//Stow on the Wold Town Council - ECPv6.15.18//NONSGML v1.0//EN
CALSCALE:GREGORIAN
METHOD:PUBLISH
X-WR-CALNAME:Stow on the Wold Town Council
X-ORIGINAL-URL:https://stowonthewold-tc.gov.uk
X-WR-CALDESC:Events for Stow on the Wold Town Council
REFRESH-INTERVAL;VALUE=DURATION:PT1H
X-Robots-Tag:noindex
X-PUBLISHED-TTL:PT1H
BEGIN:VTIMEZONE
TZID:Europe/London
BEGIN:DAYLIGHT
TZOFFSETFROM:+0000
TZOFFSETTO:+0100
TZNAME:BST
DTSTART:20200329T010000
END:DAYLIGHT
BEGIN:STANDARD
TZOFFSETFROM:+0100
TZOFFSETTO:+0000
TZNAME:GMT
DTSTART:20201025T010000
END:STANDARD
BEGIN:DAYLIGHT
TZOFFSETFROM:+0000
TZOFFSETTO:+0100
TZNAME:BST
DTSTART:20210328T010000
END:DAYLIGHT
BEGIN:STANDARD
TZOFFSETFROM:+0100
TZOFFSETTO:+0000
TZNAME:GMT
DTSTART:20211031T010000
END:STANDARD
BEGIN:DAYLIGHT
TZOFFSETFROM:+0000
TZOFFSETTO:+0100
TZNAME:BST
DTSTART:20220327T010000
END:DAYLIGHT
BEGIN:STANDARD
TZOFFSETFROM:+0100
TZOFFSETTO:+0000
TZNAME:GMT
DTSTART:20221030T010000
END:STANDARD
BEGIN:DAYLIGHT
TZOFFSETFROM:+0000
TZOFFSETTO:+0100
TZNAME:BST
DTSTART:20230326T010000
END:DAYLIGHT
BEGIN:STANDARD
TZOFFSETFROM:+0100
TZOFFSETTO:+0000
TZNAME:GMT
DTSTART:20231029T010000
END:STANDARD
END:VTIMEZONE
BEGIN:VEVENT
DTSTART;TZID=Europe/London:20220310T190000
DTEND;TZID=Europe/London:20220310T190000
DTSTAMP:20260420T011257
CREATED:20220119T123850Z
LAST-MODIFIED:20220214T140406Z
UID:4361-1646938800-1646938800@stowonthewold-tc.gov.uk
SUMMARY:Parks & Square Committee meeting
DESCRIPTION:All council and committee meetings have reverted to in person.  Please check agenda for location.  Members of the public/press are welcome to attend.
URL:https://stowonthewold-tc.gov.uk/event/parks-square-committee-meeting-4/
LOCATION:Stow Youth Centre\, Fosseway\, Stow on the Wold\, Gloucestershire\, GL54 1DW\, United Kingdom
CATEGORIES:Town Council Meeting
ORGANIZER;CN="Stow on the Wold Town Council":MAILTO:info@stowonthewold-tc.gov.uk
END:VEVENT
BEGIN:VEVENT
DTSTART;TZID=Europe/London:20220310T090000
DTEND;TZID=Europe/London:20220310T130000
DTSTAMP:20260420T011257
CREATED:20220113T123313Z
LAST-MODIFIED:20220113T123313Z
UID:4282-1646902800-1646917200@stowonthewold-tc.gov.uk
SUMMARY:Farmers Market
DESCRIPTION:
URL:https://stowonthewold-tc.gov.uk/event/farmers-market-17/
LOCATION:The Square\, The Square\, Stow on the Wold\, Gloucestershire\, GL54 1AF\, United Kingdom
CATEGORIES:Local Events
END:VEVENT
BEGIN:VEVENT
DTSTART;TZID=Europe/London:20220309T103000
DTEND;TZID=Europe/London:20220309T103000
DTSTAMP:20260420T011257
CREATED:20220201T101802Z
LAST-MODIFIED:20220317T102845Z
UID:4446-1646821800-1646821800@stowonthewold-tc.gov.uk
SUMMARY:Burial Board meeting
DESCRIPTION:All council and committee meetings have reverted to in person.  Please check agenda for location.  Members of the public/press are welcome to attend.
URL:https://stowonthewold-tc.gov.uk/event/burial-board-meeting-4/
LOCATION:Stow Youth Centre\, Fosseway\, Stow on the Wold\, Gloucestershire\, GL54 1DW\, United Kingdom
CATEGORIES:Town Council Meeting
ORGANIZER;CN="Stow on the Wold Town Council":MAILTO:info@stowonthewold-tc.gov.uk
END:VEVENT
BEGIN:VEVENT
DTSTART;TZID=Europe/London:20220224T190000
DTEND;TZID=Europe/London:20220224T190000
DTSTAMP:20260420T011257
CREATED:20210714T110427Z
LAST-MODIFIED:20220303T162227Z
UID:3200-1645729200-1645729200@stowonthewold-tc.gov.uk
SUMMARY:Town Council meeting
DESCRIPTION:All council and committee meetings have reverted to in person.  Please check agenda for location.  Members of the public/press are welcome to attend.
URL:https://stowonthewold-tc.gov.uk/event/town-council-meeting-6/
LOCATION:Stow Youth Centre\, Fosseway\, Stow on the Wold\, Gloucestershire\, GL54 1DW\, United Kingdom
CATEGORIES:Town Council Meeting
ORGANIZER;CN="Stow on the Wold Town Council":MAILTO:info@stowonthewold-tc.gov.uk
END:VEVENT
BEGIN:VEVENT
DTSTART;TZID=Europe/London:20220222T190000
DTEND;TZID=Europe/London:20220222T190000
DTSTAMP:20260420T011257
CREATED:20211109T141615Z
LAST-MODIFIED:20220224T104706Z
UID:3957-1645556400-1645556400@stowonthewold-tc.gov.uk
SUMMARY:Planning\, Traffic & Parking Committee meeting
DESCRIPTION:All council and committee meetings have reverted to in person.  Please check agenda for location.  Members of the public/press are welcome to attend.
URL:https://stowonthewold-tc.gov.uk/event/planning-traffic-parking-committee-meeting-14/
LOCATION:Stow Youth Centre\, Fosseway\, Stow on the Wold\, Gloucestershire\, GL54 1DW\, United Kingdom
CATEGORIES:Town Council Meeting
ORGANIZER;CN="Stow on the Wold Town Council":MAILTO:info@stowonthewold-tc.gov.uk
END:VEVENT
BEGIN:VEVENT
DTSTART;TZID=Europe/London:20220210T090000
DTEND;TZID=Europe/London:20220210T130000
DTSTAMP:20260420T011257
CREATED:20220113T123203Z
LAST-MODIFIED:20220113T123203Z
UID:4279-1644483600-1644498000@stowonthewold-tc.gov.uk
SUMMARY:Farmers Market
DESCRIPTION:
URL:https://stowonthewold-tc.gov.uk/event/farmers-market-16/
LOCATION:The Square\, The Square\, Stow on the Wold\, Gloucestershire\, GL54 1AF\, United Kingdom
CATEGORIES:Local Events
END:VEVENT
BEGIN:VEVENT
DTSTART;TZID=Europe/London:20220208T103000
DTEND;TZID=Europe/London:20220208T103000
DTSTAMP:20260420T011257
CREATED:20211111T143856Z
LAST-MODIFIED:20220215T110926Z
UID:4013-1644316200-1644316200@stowonthewold-tc.gov.uk
SUMMARY:Finance & General Purpose Committee
DESCRIPTION:All council and committee meetings have reverted to in person.  Please check agenda for location.  Members of the public/press are welcome to attend.
URL:https://stowonthewold-tc.gov.uk/event/finance-general-purpose-commitee/
LOCATION:Stow Youth Centre\, Fosseway\, Stow on the Wold\, Gloucestershire\, GL54 1DW\, United Kingdom
CATEGORIES:Town Council Meeting
ORGANIZER;CN="Stow on the Wold Town Council":MAILTO:info@stowonthewold-tc.gov.uk
END:VEVENT
BEGIN:VEVENT
DTSTART;TZID=Europe/London:20220201T190000
DTEND;TZID=Europe/London:20220201T190000
DTSTAMP:20260420T011257
CREATED:20211109T141540Z
LAST-MODIFIED:20220210T122306Z
UID:3954-1643742000-1643742000@stowonthewold-tc.gov.uk
SUMMARY:Planning\, Traffic & Parking Committee meeting
DESCRIPTION:All council and committee meetings have reverted to in person.  Please check agenda for location.  Members of the public/press are welcome to attend.
URL:https://stowonthewold-tc.gov.uk/event/planning-traffic-parking-committee-meeting-13/
LOCATION:Stow Youth Centre\, Fosseway\, Stow on the Wold\, Gloucestershire\, GL54 1DW\, United Kingdom
CATEGORIES:Town Council Meeting
ORGANIZER;CN="Stow on the Wold Town Council":MAILTO:info@stowonthewold-tc.gov.uk
END:VEVENT
BEGIN:VEVENT
DTSTART;TZID=Europe/London:20220127T190000
DTEND;TZID=Europe/London:20220127T190000
DTSTAMP:20260420T011257
CREATED:20210714T110337Z
LAST-MODIFIED:20220203T100134Z
UID:3197-1643310000-1643310000@stowonthewold-tc.gov.uk
SUMMARY:Town Council meeting
DESCRIPTION:All council and committee meetings have reverted to in person.  Please check agenda for location.  Members of the public/press are welcome to attend.
URL:https://stowonthewold-tc.gov.uk/event/town-council-meeting-5/
LOCATION:Stow Youth Centre\, Fosseway\, Stow on the Wold\, Gloucestershire\, GL54 1DW\, United Kingdom
CATEGORIES:Town Council Meeting
ORGANIZER;CN="Stow on the Wold Town Council":MAILTO:info@stowonthewold-tc.gov.uk
END:VEVENT
BEGIN:VEVENT
DTSTART;TZID=Europe/London:20220126T110000
DTEND;TZID=Europe/London:20220126T120000
DTSTAMP:20260420T011257
CREATED:20220106T101542Z
LAST-MODIFIED:20220106T101815Z
UID:4242-1643194800-1643198400@stowonthewold-tc.gov.uk
SUMMARY:Police Surgery
DESCRIPTION:
URL:https://stowonthewold-tc.gov.uk/event/police-surgery/
LOCATION:Stow Library
CATEGORIES:Local Events
END:VEVENT
BEGIN:VEVENT
DTSTART;TZID=Europe/London:20220126T103000
DTEND;TZID=Europe/London:20220126T103000
DTSTAMP:20260420T011257
CREATED:20211123T135508Z
LAST-MODIFIED:20220202T130629Z
UID:4072-1643193000-1643193000@stowonthewold-tc.gov.uk
SUMMARY:Burial Board Meeting
DESCRIPTION:All council and committee meetings have reverted to in person.  Please check agenda for location.  Members of the public/press are welcome to attend.
URL:https://stowonthewold-tc.gov.uk/event/burial-board-meeting-3/
LOCATION:Stow Youth Centre\, Fosseway\, Stow on the Wold\, Gloucestershire\, GL54 1DW\, United Kingdom
CATEGORIES:Town Council Meeting
ORGANIZER;CN="Stow on the Wold Town Council":MAILTO:info@stowonthewold-tc.gov.uk
END:VEVENT
BEGIN:VEVENT
DTSTART;TZID=Europe/London:20220113T190000
DTEND;TZID=Europe/London:20220113T190000
DTSTAMP:20260420T011257
CREATED:20211102T112233Z
LAST-MODIFIED:20220127T123042Z
UID:3904-1642100400-1642100400@stowonthewold-tc.gov.uk
SUMMARY:Parks & Square Committee meeting
DESCRIPTION:All council and committee meetings have reverted to in person.  Please check agenda for location.  Members of the public/press are welcome to attend.
URL:https://stowonthewold-tc.gov.uk/event/3904/
LOCATION:Stow Youth Centre\, Fosseway\, Stow on the Wold\, Gloucestershire\, GL54 1DW\, United Kingdom
CATEGORIES:Town Council Meeting
ORGANIZER;CN="Stow on the Wold Town Council":MAILTO:info@stowonthewold-tc.gov.uk
END:VEVENT
BEGIN:VEVENT
DTSTART;TZID=Europe/London:20220111T190000
DTEND;TZID=Europe/London:20220111T190000
DTSTAMP:20260420T011257
CREATED:20211109T141440Z
LAST-MODIFIED:20220119T094113Z
UID:3951-1641927600-1641927600@stowonthewold-tc.gov.uk
SUMMARY:Planning\, Traffic & Parking Committee meeting
DESCRIPTION:All council and committee meetings have reverted to in person.  Please check agenda for location.  Members of the public/press are welcome to attend.
URL:https://stowonthewold-tc.gov.uk/event/planning-traffic-parking-committee-meeting-5/
LOCATION:Stow Youth Centre\, Fosseway\, Stow on the Wold\, Gloucestershire\, GL54 1DW\, United Kingdom
CATEGORIES:Town Council Meeting
ORGANIZER;CN="Stow on the Wold Town Council":MAILTO:info@stowonthewold-tc.gov.uk
END:VEVENT
BEGIN:VEVENT
DTSTART;TZID=Europe/London:20211221T130000
DTEND;TZID=Europe/London:20220104T100000
DTSTAMP:20260420T011257
CREATED:20211125T133902Z
LAST-MODIFIED:20211125T133902Z
UID:4100-1640091600-1641290400@stowonthewold-tc.gov.uk
SUMMARY:Town Council office closed
DESCRIPTION:
URL:https://stowonthewold-tc.gov.uk/event/town-council-office-closed/
CATEGORIES:Local Events
END:VEVENT
BEGIN:VEVENT
DTSTART;TZID=Europe/London:20211216T190000
DTEND;TZID=Europe/London:20211216T190000
DTSTAMP:20260420T011257
CREATED:20210714T110252Z
LAST-MODIFIED:20211209T101147Z
UID:3194-1639681200-1639681200@stowonthewold-tc.gov.uk
SUMMARY:Town Council meeting CANCELLED
DESCRIPTION:All council and committee meetings have reverted to in person.  Please check agenda for location.  Members of the public/press are welcome to attend.
URL:https://stowonthewold-tc.gov.uk/event/town-council-meeting-4/
LOCATION:Stow Youth Centre\, Fosseway\, Stow on the Wold\, Gloucestershire\, GL54 1DW\, United Kingdom
CATEGORIES:Town Council Meeting
ORGANIZER;CN="Stow on the Wold Town Council":MAILTO:info@stowonthewold-tc.gov.uk
END:VEVENT
BEGIN:VEVENT
DTSTART;TZID=Europe/London:20211214T190000
DTEND;TZID=Europe/London:20211214T190000
DTSTAMP:20260420T011257
CREATED:20210506T095643Z
LAST-MODIFIED:20211209T101219Z
UID:2705-1639508400-1639508400@stowonthewold-tc.gov.uk
SUMMARY:Planning\, Traffic & Parking Committee meeting CANCELLED
DESCRIPTION:All council and committee meetings have reverted to in person.  Please check agenda for location.  Members of the public/press are welcome to attend.
URL:https://stowonthewold-tc.gov.uk/event/planning-traffic-parking-committee-meeting-12/
LOCATION:Stow Youth Centre\, Fosseway\, Stow on the Wold\, Gloucestershire\, GL54 1DW\, United Kingdom
CATEGORIES:Town Council Meeting
ORGANIZER;CN="Stow on the Wold Town Council":MAILTO:info@stowonthewold-tc.gov.uk
END:VEVENT
BEGIN:VEVENT
DTSTART;TZID=Europe/London:20211209T090000
DTEND;TZID=Europe/London:20211209T130000
DTSTAMP:20260420T011257
CREATED:20210512T101135Z
LAST-MODIFIED:20210512T101135Z
UID:2776-1639040400-1639054800@stowonthewold-tc.gov.uk
SUMMARY:Farmers' Market
DESCRIPTION:
URL:https://stowonthewold-tc.gov.uk/event/farmers-market-15/
LOCATION:The Square\, The Square\, Stow on the Wold\, Gloucestershire\, GL54 1AF\, United Kingdom
CATEGORIES:Local Events
END:VEVENT
BEGIN:VEVENT
DTSTART;TZID=Europe/London:20211209T000000
DTEND;TZID=Europe/London:20211212T000000
DTSTAMP:20260420T011257
CREATED:20210629T092428Z
LAST-MODIFIED:20210629T092635Z
UID:3056-1639008000-1639267200@stowonthewold-tc.gov.uk
SUMMARY:Christmas Tree Festival\, St Edward's Church
DESCRIPTION:
URL:https://stowonthewold-tc.gov.uk/event/st-edwards-christmas-tree-festival/
LOCATION:St Edward’s Church\, Church Street\, Stow on the Wold\, United Kingdom
CATEGORIES:Local Events
END:VEVENT
BEGIN:VEVENT
DTSTART;TZID=Europe/London:20211203T170000
DTEND;TZID=Europe/London:20211203T180000
DTSTAMP:20260420T011257
CREATED:20211110T094105Z
LAST-MODIFIED:20211110T094105Z
UID:3989-1638550800-1638554400@stowonthewold-tc.gov.uk
SUMMARY:Christmas Tree Lights Switch On
DESCRIPTION:From 5.00 pm \nFree homemade soup and mince pies \nMulled wine \n  \n5.30pm \nChristmas tree lights will be switched on by a pupil from Stow on the Wold Primary School \nSinging of festive songs by Stow Primary School children \nSinging of carols by all present \nFather Christmas \n  \nFree parking at the Shoppers Car Park adjacent to Tesco\, Fosseway\, and from 3pm at the Maugersbury Road Car Park \n  \nOrganised by Stow on the Wold Town Council
URL:https://stowonthewold-tc.gov.uk/event/christmas-tree-lights-switch-on-2/
LOCATION:The Square\, The Square\, Stow on the Wold\, Gloucestershire\, GL54 1AF\, United Kingdom
CATEGORIES:Local Events
ORGANIZER;CN="Stow on the Wold Town Council":MAILTO:info@stowonthewold-tc.gov.uk
END:VEVENT
BEGIN:VEVENT
DTSTART;TZID=Europe/London:20211125T190000
DTEND;TZID=Europe/London:20211125T190000
DTSTAMP:20260420T011257
CREATED:20201216T165839Z
LAST-MODIFIED:20211214T131644Z
UID:1736-1637866800-1637866800@stowonthewold-tc.gov.uk
SUMMARY:Town Council meeting
DESCRIPTION:All council and committee meetings have reverted to in person.  Please check agenda for location.  Members of the public/press are welcome to attend.
URL:https://stowonthewold-tc.gov.uk/event/town-council-meeting-via-zoom-12/
LOCATION:Stow Youth Centre\, Fosseway\, Stow on the Wold\, Gloucestershire\, GL54 1DW\, United Kingdom
CATEGORIES:Town Council Meeting
ORGANIZER;CN="Stow on the Wold Town Council":MAILTO:info@stowonthewold-tc.gov.uk
END:VEVENT
BEGIN:VEVENT
DTSTART;TZID=Europe/London:20211123T190000
DTEND;TZID=Europe/London:20211123T190000
DTSTAMP:20260420T011257
CREATED:20210506T095610Z
LAST-MODIFIED:20211130T104111Z
UID:2702-1637694000-1637694000@stowonthewold-tc.gov.uk
SUMMARY:Planning\, Traffic & Parking Committee meeting
DESCRIPTION:All council and committee meetings have reverted to in person.  Please check agenda for location.  Members of the public/press are welcome to attend.
URL:https://stowonthewold-tc.gov.uk/event/planning-traffic-parking-committee-meeting-11/
LOCATION:Stow Youth Centre\, Fosseway\, Stow on the Wold\, Gloucestershire\, GL54 1DW\, United Kingdom
CATEGORIES:Town Council Meeting
ORGANIZER;CN="Stow on the Wold Town Council":MAILTO:info@stowonthewold-tc.gov.uk
END:VEVENT
BEGIN:VEVENT
DTSTART;TZID=Europe/London:20211122T103000
DTEND;TZID=Europe/London:20211122T103000
DTSTAMP:20260420T011257
CREATED:20211117T123807Z
LAST-MODIFIED:20211117T123807Z
UID:4028-1637577000-1637577000@stowonthewold-tc.gov.uk
SUMMARY:Burial Board meeting CANCELLED
DESCRIPTION:All council and committee meetings have reverted to in person.  Please check agenda for location.  Members of the public/press are welcome to attend.
URL:https://stowonthewold-tc.gov.uk/event/burial-board-meeting-cancelled/
LOCATION:Stow Youth Centre\, Fosseway\, Stow on the Wold\, Gloucestershire\, GL54 1DW\, United Kingdom
CATEGORIES:Town Council Meeting
ORGANIZER;CN="Stow on the Wold Town Council":MAILTO:info@stowonthewold-tc.gov.uk
END:VEVENT
BEGIN:VEVENT
DTSTART;TZID=Europe/London:20211114T103000
DTEND;TZID=Europe/London:20211114T235900
DTSTAMP:20260420T011257
CREATED:20210817T092541Z
LAST-MODIFIED:20211109T130046Z
UID:3428-1636885800-1636934340@stowonthewold-tc.gov.uk
SUMMARY:CANCELLED - Remembrance Parade & Service - 10.30am march off from Stow Square
DESCRIPTION:Cancelled Remembrance poster 2021
URL:https://stowonthewold-tc.gov.uk/event/remembrance-parade-service/
LOCATION:St Edward’s Church\, Church Street\, Stow on the Wold\, United Kingdom
CATEGORIES:Local Events
END:VEVENT
BEGIN:VEVENT
DTSTART;TZID=Europe/London:20211111T103000
DTEND;TZID=Europe/London:20211111T103000
DTSTAMP:20260420T011257
CREATED:20210928T120853Z
LAST-MODIFIED:20210928T120853Z
UID:3674-1636626600-1636626600@stowonthewold-tc.gov.uk
SUMMARY:Armistice Day - Short Service at Stow Cross\, 10.30 am\, Thursday 11th November 2021
DESCRIPTION:Armistice & Remembrance poster 2021
URL:https://stowonthewold-tc.gov.uk/event/armistice-day-short-service-at-stow-cross-10-30-am-thursday-11th-november-2021/
LOCATION:The Square\, The Square\, Stow on the Wold\, Gloucestershire\, GL54 1AF\, United Kingdom
CATEGORIES:Local Events
END:VEVENT
BEGIN:VEVENT
DTSTART;TZID=Europe/London:20211111T090000
DTEND;TZID=Europe/London:20211111T130000
DTSTAMP:20260420T011257
CREATED:20210512T101102Z
LAST-MODIFIED:20210512T101102Z
UID:2773-1636621200-1636635600@stowonthewold-tc.gov.uk
SUMMARY:Farmers' Market
DESCRIPTION:
URL:https://stowonthewold-tc.gov.uk/event/farmers-market-14/
LOCATION:The Square\, The Square\, Stow on the Wold\, Gloucestershire\, GL54 1AF\, United Kingdom
CATEGORIES:Local Events
END:VEVENT
BEGIN:VEVENT
DTSTART;TZID=Europe/London:20211110T103000
DTEND;TZID=Europe/London:20211110T103000
DTSTAMP:20260420T011257
CREATED:20210924T113103Z
LAST-MODIFIED:20211112T084118Z
UID:3641-1636540200-1636540200@stowonthewold-tc.gov.uk
SUMMARY:Finance & General Purpose Meeting
DESCRIPTION:All council and committee meetings have reverted to in person.  Please check agenda for location.  Members of the public/press are welcome to attend.
URL:https://stowonthewold-tc.gov.uk/event/finance-general-purpose-meeting/
LOCATION:Stow Youth Centre\, Fosseway\, Stow on the Wold\, Gloucestershire\, GL54 1DW\, United Kingdom
CATEGORIES:Town Council Meeting
ORGANIZER;CN="Stow on the Wold Town Council":MAILTO:info@stowonthewold-tc.gov.uk
END:VEVENT
BEGIN:VEVENT
DTSTART;TZID=Europe/London:20211109T190000
DTEND;TZID=Europe/London:20211109T190000
DTSTAMP:20260420T011257
CREATED:20211109T141902Z
LAST-MODIFIED:20211109T141902Z
UID:3972-1636484400-1636484400@stowonthewold-tc.gov.uk
SUMMARY:Planning\, Traffic & Parking Committee meeting
DESCRIPTION:All council and committee meetings have reverted to in person.  Please check agenda for location.  Members of the public/press are welcome to attend.
URL:https://stowonthewold-tc.gov.uk/event/planning-traffic-parking-committee-meeting-19/
LOCATION:Stow Youth Centre\, Fosseway\, Stow on the Wold\, Gloucestershire\, GL54 1DW\, United Kingdom
CATEGORIES:Town Council Meeting
ORGANIZER;CN="Stow on the Wold Town Council":MAILTO:info@stowonthewold-tc.gov.uk
END:VEVENT
BEGIN:VEVENT
DTSTART;TZID=Europe/London:20211105T180000
DTEND;TZID=Europe/London:20211105T210000
DTSTAMP:20260420T011257
CREATED:20210505T122826Z
LAST-MODIFIED:20210816T131947Z
UID:2649-1636135200-1636146000@stowonthewold-tc.gov.uk
SUMMARY:Bonfire & Fireworks Event
DESCRIPTION:
URL:https://stowonthewold-tc.gov.uk/event/bonfire/
LOCATION:QEII Field (Cricket Field)\, Lower Swell Road\, Stow on the Wold\, Gloucestershire\, GL54 1LD\, United Kingdom
END:VEVENT
BEGIN:VEVENT
DTSTART;TZID=Europe/London:20211102T190000
DTEND;TZID=Europe/London:20211102T190000
DTSTAMP:20260420T011257
CREATED:20210506T095532Z
LAST-MODIFIED:20211117T140205Z
UID:2699-1635879600-1635879600@stowonthewold-tc.gov.uk
SUMMARY:Planning\, Traffic & Parking Committee meeting
DESCRIPTION:All council and committee meetings have reverted to in person.  Please check agenda for location.  Members of the public/press are welcome to attend.
URL:https://stowonthewold-tc.gov.uk/event/planning-traffic-parking-committee-meeting-10/
LOCATION:Stow Youth Centre\, Fosseway\, Stow on the Wold\, Gloucestershire\, GL54 1DW\, United Kingdom
CATEGORIES:Town Council Meeting
ORGANIZER;CN="Stow on the Wold Town Council":MAILTO:info@stowonthewold-tc.gov.uk
END:VEVENT
BEGIN:VEVENT
DTSTART;TZID=Europe/London:20211028T190000
DTEND;TZID=Europe/London:20211028T190000
DTSTAMP:20260420T011257
CREATED:20201216T165756Z
LAST-MODIFIED:20211118T151804Z
UID:1733-1635447600-1635447600@stowonthewold-tc.gov.uk
SUMMARY:Town Council meeting
DESCRIPTION:All council and committee meetings have reverted to in person.  Please check agenda for location.  Members of the public/press are welcome to attend.
URL:https://stowonthewold-tc.gov.uk/event/town-council-meeting-via-zoom-11/
LOCATION:Stow Youth Centre\, Fosseway\, Stow on the Wold\, Gloucestershire\, GL54 1DW\, United Kingdom
CATEGORIES:Town Council Meeting
ORGANIZER;CN="Stow on the Wold Town Council":MAILTO:info@stowonthewold-tc.gov.uk
END:VEVENT
END:VCALENDAR