BEGIN:VCALENDAR
VERSION:2.0
PRODID:-//Stow on the Wold Town Council - ECPv6.15.20//NONSGML v1.0//EN
CALSCALE:GREGORIAN
METHOD:PUBLISH
X-ORIGINAL-URL:https://stowonthewold-tc.gov.uk
X-WR-CALDESC:Events for Stow on the Wold Town Council
REFRESH-INTERVAL;VALUE=DURATION:PT1H
X-Robots-Tag:noindex
X-PUBLISHED-TTL:PT1H
BEGIN:VTIMEZONE
TZID:Europe/London
BEGIN:DAYLIGHT
TZOFFSETFROM:+0000
TZOFFSETTO:+0100
TZNAME:BST
DTSTART:20250330T010000
END:DAYLIGHT
BEGIN:STANDARD
TZOFFSETFROM:+0100
TZOFFSETTO:+0000
TZNAME:GMT
DTSTART:20251026T010000
END:STANDARD
BEGIN:DAYLIGHT
TZOFFSETFROM:+0000
TZOFFSETTO:+0100
TZNAME:BST
DTSTART:20260329T010000
END:DAYLIGHT
BEGIN:STANDARD
TZOFFSETFROM:+0100
TZOFFSETTO:+0000
TZNAME:GMT
DTSTART:20261025T010000
END:STANDARD
BEGIN:DAYLIGHT
TZOFFSETFROM:+0000
TZOFFSETTO:+0100
TZNAME:BST
DTSTART:20270328T010000
END:DAYLIGHT
BEGIN:STANDARD
TZOFFSETFROM:+0100
TZOFFSETTO:+0000
TZNAME:GMT
DTSTART:20271031T010000
END:STANDARD
END:VTIMEZONE
BEGIN:VEVENT
DTSTART;TZID=Europe/London:20260226T090000
DTEND;TZID=Europe/London:20260226T130000
DTSTAMP:20260423T081057
CREATED:20251125T144228Z
LAST-MODIFIED:20251125T144228Z
UID:11356-1772096400-1772110800@stowonthewold-tc.gov.uk
SUMMARY:Farmers Market
DESCRIPTION:
URL:https://stowonthewold-tc.gov.uk/event/farmers-market-93/
LOCATION:Gloucestershire
CATEGORIES:Local Events
END:VEVENT
BEGIN:VEVENT
DTSTART;TZID=Europe/London:20260317T103000
DTEND;TZID=Europe/London:20260317T123000
DTSTAMP:20260423T081057
CREATED:20260317T144903Z
LAST-MODIFIED:20260317T144903Z
UID:11842-1773743400-1773750600@stowonthewold-tc.gov.uk
SUMMARY:Council at the Library
DESCRIPTION:Council at the library 27 March
URL:https://stowonthewold-tc.gov.uk/event/council-at-the-library-5/
LOCATION:Stow Library
CATEGORIES:Local Events
ORGANIZER;CN="Stow on the Wold Town Council":MAILTO:info@stowonthewold-tc.gov.uk
END:VEVENT
BEGIN:VEVENT
DTSTART;TZID=Europe/London:20260408T180000
DTEND;TZID=Europe/London:20260408T190000
DTSTAMP:20260423T081057
CREATED:20260305T143402Z
LAST-MODIFIED:20260305T143547Z
UID:11788-1775671200-1775674800@stowonthewold-tc.gov.uk
SUMMARY:Spring Clean Stow\, Wed 8th April
DESCRIPTION: 
URL:https://stowonthewold-tc.gov.uk/event/spring-clean-stow-wed-8th-april/
LOCATION:Stow Youth Centre\, Fosseway\, Stow on the Wold\, Gloucestershire\, GL54 1DW\, United Kingdom
CATEGORIES:Local Events
ORGANIZER;CN="Stow on the Wold Town Council":MAILTO:info@stowonthewold-tc.gov.uk
END:VEVENT
BEGIN:VEVENT
DTSTART;TZID=Europe/London:20260422T190000
DTEND;TZID=Europe/London:20260422T210000
DTSTAMP:20260423T081057
CREATED:20260305T135344Z
LAST-MODIFIED:20260305T135344Z
UID:11782-1776884400-1776891600@stowonthewold-tc.gov.uk
SUMMARY:Annual Town Meeting
DESCRIPTION:
URL:https://stowonthewold-tc.gov.uk/event/annual-town-meeting-4/
LOCATION:Stow Social Club\, Well Lane\, Stow on the Wold\, Glos\, GL54 1DW\, United Kingdom
CATEGORIES:Local Events
ORGANIZER;CN="Stow on the Wold Town Council":MAILTO:info@stowonthewold-tc.gov.uk
END:VEVENT
BEGIN:VEVENT
DTSTART;TZID=Europe/London:20260430T090000
DTEND;TZID=Europe/London:20260430T130000
DTSTAMP:20260423T081057
CREATED:20260414T150514Z
LAST-MODIFIED:20260414T150514Z
UID:11947-1777539600-1777554000@stowonthewold-tc.gov.uk
SUMMARY:Farmers Market
DESCRIPTION:
URL:https://stowonthewold-tc.gov.uk/event/farmers-market-87/
LOCATION:The Square\, The Square\, Stow on the Wold\, Gloucestershire\, GL54 1AF\, United Kingdom
CATEGORIES:Local Events
END:VEVENT
BEGIN:VEVENT
DTSTART;TZID=Europe/London:20260524T140000
DTEND;TZID=Europe/London:20260524T210000
DTSTAMP:20260423T081057
CREATED:20260128T162824Z
LAST-MODIFIED:20260317T145034Z
UID:11694-1779631200-1779656400@stowonthewold-tc.gov.uk
SUMMARY:Clock\, Stocks & A Few Beer Barrels
DESCRIPTION:Poster\n 
URL:https://stowonthewold-tc.gov.uk/event/stow-550-celebration/
LOCATION:The Square\, The Square\, Stow on the Wold\, Gloucestershire\, GL54 1AF\, United Kingdom
CATEGORIES:Local Events
ORGANIZER;CN="Stow on the Wold Town Council":MAILTO:info@stowonthewold-tc.gov.uk
END:VEVENT
BEGIN:VEVENT
DTSTART;TZID=Europe/London:20260528T090000
DTEND;TZID=Europe/London:20260528T130000
DTSTAMP:20260423T081057
CREATED:20260414T150950Z
LAST-MODIFIED:20260414T150950Z
UID:11950-1779958800-1779973200@stowonthewold-tc.gov.uk
SUMMARY:Farmers Market
DESCRIPTION:
URL:https://stowonthewold-tc.gov.uk/event/farmers-market-94/
LOCATION:The Square\, The Square\, Stow on the Wold\, Gloucestershire\, GL54 1AF\, United Kingdom
CATEGORIES:Local Events
END:VEVENT
BEGIN:VEVENT
DTSTART;TZID=Europe/London:20260611T090000
DTEND;TZID=Europe/London:20260611T130000
DTSTAMP:20260423T081057
CREATED:20260414T151125Z
LAST-MODIFIED:20260414T151125Z
UID:11953-1781168400-1781182800@stowonthewold-tc.gov.uk
SUMMARY:Farmers Market
DESCRIPTION:
URL:https://stowonthewold-tc.gov.uk/event/farmers-market-95/
LOCATION:The Square\, The Square\, Stow on the Wold\, Gloucestershire\, GL54 1AF\, United Kingdom
CATEGORIES:Local Events
END:VEVENT
BEGIN:VEVENT
DTSTART;TZID=Europe/London:20260625T090000
DTEND;TZID=Europe/London:20260625T130000
DTSTAMP:20260423T081057
CREATED:20260414T151153Z
LAST-MODIFIED:20260414T151153Z
UID:11956-1782378000-1782392400@stowonthewold-tc.gov.uk
SUMMARY:Farmers Market
DESCRIPTION:
URL:https://stowonthewold-tc.gov.uk/event/farmers-market-96/
LOCATION:Gloucestershire
CATEGORIES:Local Events
END:VEVENT
BEGIN:VEVENT
DTSTART;TZID=Europe/London:20260709T090000
DTEND;TZID=Europe/London:20260709T130000
DTSTAMP:20260423T081057
CREATED:20260414T151337Z
LAST-MODIFIED:20260414T151337Z
UID:11959-1783587600-1783602000@stowonthewold-tc.gov.uk
SUMMARY:Farmers Market
DESCRIPTION:
URL:https://stowonthewold-tc.gov.uk/event/farmers-market-97/
LOCATION:The Square\, The Square\, Stow on the Wold\, Gloucestershire\, GL54 1AF\, United Kingdom
CATEGORIES:Local Events
END:VEVENT
BEGIN:VEVENT
DTSTART;VALUE=DATE:20260711
DTEND;VALUE=DATE:20260712
DTSTAMP:20260423T081057
CREATED:20260114T134341Z
LAST-MODIFIED:20260114T134734Z
UID:11602-1783728000-1783814399@stowonthewold-tc.gov.uk
SUMMARY:Stow Motor Show 2026
DESCRIPTION:STOW MOTOR SHOW ON 11th JULY  2026 \nQEII Field & in Stow Square \nwith Classic bus rides; Zorbing on the field; and a magnificent display of treasured vehicles \n 
URL:https://stowonthewold-tc.gov.uk/event/stow-motor-show-2026/
LOCATION:QEII Field (Cricket Field)\, Lower Swell Road\, Stow on the Wold\, Gloucestershire\, GL54 1LD\, United Kingdom
CATEGORIES:Local Events
END:VEVENT
BEGIN:VEVENT
DTSTART;TZID=Europe/London:20260730T090000
DTEND;TZID=Europe/London:20260730T130000
DTSTAMP:20260423T081057
CREATED:20260414T151404Z
LAST-MODIFIED:20260414T151404Z
UID:11962-1785402000-1785416400@stowonthewold-tc.gov.uk
SUMMARY:Farmers Market
DESCRIPTION:
URL:https://stowonthewold-tc.gov.uk/event/farmers-market-98/
LOCATION:The Square\, The Square\, Stow on the Wold\, Gloucestershire\, GL54 1AF\, United Kingdom
CATEGORIES:Local Events
END:VEVENT
BEGIN:VEVENT
DTSTART;TZID=Europe/London:20260813T090000
DTEND;TZID=Europe/London:20260813T130000
DTSTAMP:20260423T081057
CREATED:20260414T151437Z
LAST-MODIFIED:20260414T151437Z
UID:11965-1786611600-1786626000@stowonthewold-tc.gov.uk
SUMMARY:Farmers Market
DESCRIPTION:
URL:https://stowonthewold-tc.gov.uk/event/farmers-market-99/
LOCATION:The Square\, The Square\, Stow on the Wold\, Gloucestershire\, GL54 1AF\, United Kingdom
CATEGORIES:Local Events
END:VEVENT
BEGIN:VEVENT
DTSTART;TZID=Europe/London:20260827T090000
DTEND;TZID=Europe/London:20260827T130000
DTSTAMP:20260423T081057
CREATED:20260414T151511Z
LAST-MODIFIED:20260414T151511Z
UID:11968-1787821200-1787835600@stowonthewold-tc.gov.uk
SUMMARY:Farmers Market
DESCRIPTION:
URL:https://stowonthewold-tc.gov.uk/event/farmers-market-100/
LOCATION:The Square\, The Square\, Stow on the Wold\, Gloucestershire\, GL54 1AF\, United Kingdom
CATEGORIES:Local Events
END:VEVENT
BEGIN:VEVENT
DTSTART;TZID=Europe/London:20260910T090000
DTEND;TZID=Europe/London:20260910T130000
DTSTAMP:20260423T081057
CREATED:20260414T151544Z
LAST-MODIFIED:20260414T151544Z
UID:11971-1789030800-1789045200@stowonthewold-tc.gov.uk
SUMMARY:Farmers Market
DESCRIPTION:
URL:https://stowonthewold-tc.gov.uk/event/farmers-market-101/
LOCATION:The Square\, The Square\, Stow on the Wold\, Gloucestershire\, GL54 1AF\, United Kingdom
CATEGORIES:Local Events
END:VEVENT
BEGIN:VEVENT
DTSTART;TZID=Europe/London:20260924T090000
DTEND;TZID=Europe/London:20260924T130000
DTSTAMP:20260423T081057
CREATED:20260414T151617Z
LAST-MODIFIED:20260414T151617Z
UID:11974-1790240400-1790254800@stowonthewold-tc.gov.uk
SUMMARY:Farmers Market
DESCRIPTION:
URL:https://stowonthewold-tc.gov.uk/event/farmers-market-102/
LOCATION:The Square\, The Square\, Stow on the Wold\, Gloucestershire\, GL54 1AF\, United Kingdom
CATEGORIES:Local Events
END:VEVENT
BEGIN:VEVENT
DTSTART;TZID=Europe/London:20261008T090000
DTEND;TZID=Europe/London:20261008T130000
DTSTAMP:20260423T081057
CREATED:20260414T151644Z
LAST-MODIFIED:20260414T151644Z
UID:11977-1791450000-1791464400@stowonthewold-tc.gov.uk
SUMMARY:Farmers Market
DESCRIPTION:
URL:https://stowonthewold-tc.gov.uk/event/farmers-market-103/
LOCATION:The Square\, The Square\, Stow on the Wold\, Gloucestershire\, GL54 1AF\, United Kingdom
CATEGORIES:Local Events
END:VEVENT
BEGIN:VEVENT
DTSTART;TZID=Europe/London:20261029T090000
DTEND;TZID=Europe/London:20261029T130000
DTSTAMP:20260423T081057
CREATED:20260414T151708Z
LAST-MODIFIED:20260414T151708Z
UID:11980-1793264400-1793278800@stowonthewold-tc.gov.uk
SUMMARY:Farmers Market
DESCRIPTION:
URL:https://stowonthewold-tc.gov.uk/event/farmers-market-104/
LOCATION:The Square\, The Square\, Stow on the Wold\, Gloucestershire\, GL54 1AF\, United Kingdom
CATEGORIES:Local Events
END:VEVENT
BEGIN:VEVENT
DTSTART;TZID=Europe/London:20261112T090000
DTEND;TZID=Europe/London:20261112T130000
DTSTAMP:20260423T081057
CREATED:20260414T151737Z
LAST-MODIFIED:20260414T151737Z
UID:11983-1794474000-1794488400@stowonthewold-tc.gov.uk
SUMMARY:Farmers Market
DESCRIPTION:
URL:https://stowonthewold-tc.gov.uk/event/farmers-market-105/
LOCATION:The Square\, The Square\, Stow on the Wold\, Gloucestershire\, GL54 1AF\, United Kingdom
CATEGORIES:Local Events
END:VEVENT
BEGIN:VEVENT
DTSTART;TZID=Europe/London:20261126T090000
DTEND;TZID=Europe/London:20261126T130000
DTSTAMP:20260423T081057
CREATED:20260414T151817Z
LAST-MODIFIED:20260414T151817Z
UID:11986-1795683600-1795698000@stowonthewold-tc.gov.uk
SUMMARY:Farmers Market
DESCRIPTION:
URL:https://stowonthewold-tc.gov.uk/event/farmers-market-106/
LOCATION:The Square\, The Square\, Stow on the Wold\, Gloucestershire\, GL54 1AF\, United Kingdom
CATEGORIES:Local Events
END:VEVENT
BEGIN:VEVENT
DTSTART;TZID=Europe/London:20261210T090000
DTEND;TZID=Europe/London:20261210T130000
DTSTAMP:20260423T081057
CREATED:20260414T151850Z
LAST-MODIFIED:20260414T151850Z
UID:11989-1796893200-1796907600@stowonthewold-tc.gov.uk
SUMMARY:Farmers Market
DESCRIPTION:
URL:https://stowonthewold-tc.gov.uk/event/farmers-market-107/
LOCATION:The Square\, The Square\, Stow on the Wold\, Gloucestershire\, GL54 1AF\, United Kingdom
CATEGORIES:Local Events
END:VEVENT
END:VCALENDAR