BEGIN:VCALENDAR
VERSION:2.0
PRODID:-//Stow on the Wold Town Council - ECPv6.15.18//NONSGML v1.0//EN
CALSCALE:GREGORIAN
METHOD:PUBLISH
X-WR-CALNAME:Stow on the Wold Town Council
X-ORIGINAL-URL:https://stowonthewold-tc.gov.uk
X-WR-CALDESC:Events for Stow on the Wold Town Council
REFRESH-INTERVAL;VALUE=DURATION:PT1H
X-Robots-Tag:noindex
X-PUBLISHED-TTL:PT1H
BEGIN:VTIMEZONE
TZID:Europe/London
BEGIN:DAYLIGHT
TZOFFSETFROM:+0000
TZOFFSETTO:+0100
TZNAME:BST
DTSTART:20230326T010000
END:DAYLIGHT
BEGIN:STANDARD
TZOFFSETFROM:+0100
TZOFFSETTO:+0000
TZNAME:GMT
DTSTART:20231029T010000
END:STANDARD
BEGIN:DAYLIGHT
TZOFFSETFROM:+0000
TZOFFSETTO:+0100
TZNAME:BST
DTSTART:20240331T010000
END:DAYLIGHT
BEGIN:STANDARD
TZOFFSETFROM:+0100
TZOFFSETTO:+0000
TZNAME:GMT
DTSTART:20241027T010000
END:STANDARD
BEGIN:DAYLIGHT
TZOFFSETFROM:+0000
TZOFFSETTO:+0100
TZNAME:BST
DTSTART:20250330T010000
END:DAYLIGHT
BEGIN:STANDARD
TZOFFSETFROM:+0100
TZOFFSETTO:+0000
TZNAME:GMT
DTSTART:20251026T010000
END:STANDARD
BEGIN:DAYLIGHT
TZOFFSETFROM:+0000
TZOFFSETTO:+0100
TZNAME:BST
DTSTART:20260329T010000
END:DAYLIGHT
BEGIN:STANDARD
TZOFFSETFROM:+0100
TZOFFSETTO:+0000
TZNAME:GMT
DTSTART:20261025T010000
END:STANDARD
END:VTIMEZONE
BEGIN:VEVENT
DTSTART;VALUE=DATE:20251111
DTEND;VALUE=DATE:20251112
DTSTAMP:20260422T184123
CREATED:20251016T154204Z
LAST-MODIFIED:20251016T154204Z
UID:11170-1762819200-1762905599@stowonthewold-tc.gov.uk
SUMMARY:Armistice Day
DESCRIPTION:
URL:https://stowonthewold-tc.gov.uk/event/armistice-day-3/
LOCATION:Gloucestershire
CATEGORIES:Local Events
END:VEVENT
BEGIN:VEVENT
DTSTART;VALUE=DATE:20251109
DTEND;VALUE=DATE:20251110
DTSTAMP:20260422T184123
CREATED:20251016T154139Z
LAST-MODIFIED:20251016T154139Z
UID:11167-1762646400-1762732799@stowonthewold-tc.gov.uk
SUMMARY:Remembrance Day
DESCRIPTION:
URL:https://stowonthewold-tc.gov.uk/event/remembrance-day-2/
LOCATION:Gloucestershire
CATEGORIES:Local Events
END:VEVENT
BEGIN:VEVENT
DTSTART;TZID=Europe/London:20251107T180000
DTEND;TZID=Europe/London:20251107T193000
DTSTAMP:20260422T184123
CREATED:20251007T124642Z
LAST-MODIFIED:20251007T125032Z
UID:11120-1762538400-1762543800@stowonthewold-tc.gov.uk
SUMMARY:Bonfire & Fireworks
DESCRIPTION:2025 bonfire poster A3\n 
URL:https://stowonthewold-tc.gov.uk/event/bonfire-fireworks-4/
LOCATION:QEII Field (Cricket Field)\, Lower Swell Road\, Stow on the Wold\, Gloucestershire\, GL54 1LD\, United Kingdom
CATEGORIES:Local Events
ORGANIZER;CN="Stow on the Wold Town Council":MAILTO:info@stowonthewold-tc.gov.uk
END:VEVENT
BEGIN:VEVENT
DTSTART;TZID=Europe/London:20251031T103000
DTEND;TZID=Europe/London:20251031T123000
DTSTAMP:20260422T184123
CREATED:20251007T124907Z
LAST-MODIFIED:20251007T124907Z
UID:11123-1761906600-1761913800@stowonthewold-tc.gov.uk
SUMMARY:Council at the Library
DESCRIPTION:Council at the Library\n  \n 
URL:https://stowonthewold-tc.gov.uk/event/council-at-the-library-4/
LOCATION:Gloucestershire
CATEGORIES:Local Events
END:VEVENT
BEGIN:VEVENT
DTSTART;TZID=Europe/London:20251031T103000
DTEND;TZID=Europe/London:20251031T123000
DTSTAMP:20260422T184123
CREATED:20250924T094347Z
LAST-MODIFIED:20250924T094347Z
UID:11081-1761906600-1761913800@stowonthewold-tc.gov.uk
SUMMARY:Council at the Library
DESCRIPTION:Council at the Library
URL:https://stowonthewold-tc.gov.uk/event/council-at-the-library/
LOCATION:Stow Library
CATEGORIES:Local Events
ORGANIZER;CN="Stow on the Wold Town Council":MAILTO:info@stowonthewold-tc.gov.uk
END:VEVENT
BEGIN:VEVENT
DTSTART;TZID=Europe/London:20251030T090000
DTEND;TZID=Europe/London:20251030T130000
DTSTAMP:20260422T184123
CREATED:20241218T145632Z
LAST-MODIFIED:20241218T145632Z
UID:10032-1761814800-1761829200@stowonthewold-tc.gov.uk
SUMMARY:Farmers Market
DESCRIPTION:
URL:https://stowonthewold-tc.gov.uk/event/farmers-market-85/
LOCATION:The Square\, The Square\, Stow on the Wold\, Gloucestershire\, GL54 1AF\, United Kingdom
CATEGORIES:Local Events
END:VEVENT
BEGIN:VEVENT
DTSTART;TZID=Europe/London:20251009T090000
DTEND;TZID=Europe/London:20251009T130000
DTSTAMP:20260422T184123
CREATED:20241218T145544Z
LAST-MODIFIED:20241218T145544Z
UID:10029-1760000400-1760014800@stowonthewold-tc.gov.uk
SUMMARY:Farmers Market
DESCRIPTION:
URL:https://stowonthewold-tc.gov.uk/event/farmers-market-84/
LOCATION:The Square\, The Square\, Stow on the Wold\, Gloucestershire\, GL54 1AF\, United Kingdom
CATEGORIES:Local Events
END:VEVENT
BEGIN:VEVENT
DTSTART;TZID=Europe/London:20250925T090000
DTEND;TZID=Europe/London:20250925T130000
DTSTAMP:20260422T184123
CREATED:20250924T085253Z
LAST-MODIFIED:20250924T085253Z
UID:11078-1758790800-1758805200@stowonthewold-tc.gov.uk
SUMMARY:Farmers Market
DESCRIPTION:
URL:https://stowonthewold-tc.gov.uk/event/farmers-market-88/
LOCATION:The Square\, The Square\, Stow on the Wold\, Gloucestershire\, GL54 1AF\, United Kingdom
CATEGORIES:Local Events
END:VEVENT
BEGIN:VEVENT
DTSTART;TZID=Europe/London:20250911T090000
DTEND;TZID=Europe/London:20250911T130000
DTSTAMP:20260422T184123
CREATED:20241218T145251Z
LAST-MODIFIED:20241218T145251Z
UID:10025-1757581200-1757595600@stowonthewold-tc.gov.uk
SUMMARY:Farmers Market
DESCRIPTION:
URL:https://stowonthewold-tc.gov.uk/event/farmers-market-83/
LOCATION:The Square\, The Square\, Stow on the Wold\, Gloucestershire\, GL54 1AF\, United Kingdom
CATEGORIES:Local Events
END:VEVENT
BEGIN:VEVENT
DTSTART;TZID=Europe/London:20250828T090000
DTEND;TZID=Europe/London:20250828T130000
DTSTAMP:20260422T184123
CREATED:20241218T143311Z
LAST-MODIFIED:20241218T143417Z
UID:10013-1756371600-1756386000@stowonthewold-tc.gov.uk
SUMMARY:Farmers Market
DESCRIPTION:  \n 
URL:https://stowonthewold-tc.gov.uk/event/farmers-market-82/
LOCATION:The Square\, The Square\, Stow on the Wold\, Gloucestershire\, GL54 1AF\, United Kingdom
CATEGORIES:Local Events
END:VEVENT
BEGIN:VEVENT
DTSTART;TZID=Europe/London:20250814T090000
DTEND;TZID=Europe/London:20250814T130000
DTSTAMP:20260422T184123
CREATED:20241218T141744Z
LAST-MODIFIED:20241218T141744Z
UID:10010-1755162000-1755176400@stowonthewold-tc.gov.uk
SUMMARY:Farmers Market
DESCRIPTION:
URL:https://stowonthewold-tc.gov.uk/event/farmers-market-81/
LOCATION:The Square\, The Square\, Stow on the Wold\, Gloucestershire\, GL54 1AF\, United Kingdom
CATEGORIES:Local Events
END:VEVENT
BEGIN:VEVENT
DTSTART;TZID=Europe/London:20250731T090000
DTEND;TZID=Europe/London:20250731T130000
DTSTAMP:20260422T184123
CREATED:20241218T141650Z
LAST-MODIFIED:20241218T141650Z
UID:10007-1753952400-1753966800@stowonthewold-tc.gov.uk
SUMMARY:Farmers Market
DESCRIPTION:
URL:https://stowonthewold-tc.gov.uk/event/farmers-market-80/
LOCATION:The Square\, The Square\, Stow on the Wold\, Gloucestershire\, GL54 1AF\, United Kingdom
CATEGORIES:Local Events
END:VEVENT
BEGIN:VEVENT
DTSTART;TZID=Europe/London:20250710T090000
DTEND;TZID=Europe/London:20250710T130000
DTSTAMP:20260422T184123
CREATED:20241218T141546Z
LAST-MODIFIED:20241218T141546Z
UID:10004-1752138000-1752152400@stowonthewold-tc.gov.uk
SUMMARY:Farmers Market
DESCRIPTION:
URL:https://stowonthewold-tc.gov.uk/event/farmers-market-79/
LOCATION:Gloucestershire
CATEGORIES:Local Events
END:VEVENT
BEGIN:VEVENT
DTSTART;TZID=Europe/London:20250626T090000
DTEND;TZID=Europe/London:20250626T130000
DTSTAMP:20260422T184123
CREATED:20241218T141116Z
LAST-MODIFIED:20241218T141116Z
UID:10001-1750928400-1750942800@stowonthewold-tc.gov.uk
SUMMARY:Farmers Market
DESCRIPTION:
URL:https://stowonthewold-tc.gov.uk/event/farmers-market-78/
LOCATION:The Square\, The Square\, Stow on the Wold\, Gloucestershire\, GL54 1AF\, United Kingdom
CATEGORIES:Local Events
END:VEVENT
BEGIN:VEVENT
DTSTART;TZID=Europe/London:20250619T180000
DTEND;TZID=Europe/London:20250621T210000
DTSTAMP:20260422T184123
CREATED:20250514T113926Z
LAST-MODIFIED:20250514T114057Z
UID:10618-1750356000-1750539600@stowonthewold-tc.gov.uk
SUMMARY:Hatwell Borthers' Fun Fair
DESCRIPTION:From 6pm weekdays. From 2pm Saturday.
URL:https://stowonthewold-tc.gov.uk/event/hatwells-fun-fair-2/
LOCATION:The Square\, The Square\, Stow on the Wold\, Gloucestershire\, GL54 1AF\, United Kingdom
CATEGORIES:Local Events
END:VEVENT
BEGIN:VEVENT
DTSTART;TZID=Europe/London:20250612T090000
DTEND;TZID=Europe/London:20250612T130000
DTSTAMP:20260422T184123
CREATED:20241218T141018Z
LAST-MODIFIED:20241218T141018Z
UID:9998-1749718800-1749733200@stowonthewold-tc.gov.uk
SUMMARY:Farmers Market
DESCRIPTION:
URL:https://stowonthewold-tc.gov.uk/event/farmers-market-77/
LOCATION:The Square\, The Square\, Stow on the Wold\, Gloucestershire\, GL54 1AF\, United Kingdom
CATEGORIES:Local Events
END:VEVENT
BEGIN:VEVENT
DTSTART;TZID=Europe/London:20250529T090000
DTEND;TZID=Europe/London:20250529T130000
DTSTAMP:20260422T184123
CREATED:20241218T140203Z
LAST-MODIFIED:20241218T140203Z
UID:9995-1748509200-1748523600@stowonthewold-tc.gov.uk
SUMMARY:Farmers Market
DESCRIPTION:
URL:https://stowonthewold-tc.gov.uk/event/farmers-market-76/
LOCATION:The Square\, The Square\, Stow on the Wold\, Gloucestershire\, GL54 1AF\, United Kingdom
CATEGORIES:Local Events
END:VEVENT
BEGIN:VEVENT
DTSTART;TZID=Europe/London:20250508T170000
DTEND;TZID=Europe/London:20250508T220000
DTSTAMP:20260422T184123
CREATED:20250319T104809Z
LAST-MODIFIED:20250319T104809Z
UID:10372-1746723600-1746741600@stowonthewold-tc.gov.uk
SUMMARY:VE Day event
DESCRIPTION:
URL:https://stowonthewold-tc.gov.uk/event/ve-day-event/
LOCATION:QEII Field (Cricket Field)\, Lower Swell Road\, Stow on the Wold\, Gloucestershire\, GL54 1LD\, United Kingdom
CATEGORIES:Local Events
END:VEVENT
BEGIN:VEVENT
DTSTART;TZID=Europe/London:20250508T090000
DTEND;TZID=Europe/London:20250508T130000
DTSTAMP:20260422T184123
CREATED:20241218T140118Z
LAST-MODIFIED:20241218T140118Z
UID:9992-1746694800-1746709200@stowonthewold-tc.gov.uk
SUMMARY:Farmers Market
DESCRIPTION:
URL:https://stowonthewold-tc.gov.uk/event/farmers-market-75/
LOCATION:The Square\, The Square\, Stow on the Wold\, Gloucestershire\, GL54 1AF\, United Kingdom
CATEGORIES:Local Events
END:VEVENT
BEGIN:VEVENT
DTSTART;TZID=Europe/London:20250507T190000
DTEND;TZID=Europe/London:20250507T210000
DTSTAMP:20260422T184123
CREATED:20250312T170205Z
LAST-MODIFIED:20250312T170205Z
UID:10362-1746644400-1746651600@stowonthewold-tc.gov.uk
SUMMARY:Annual Town Meeting
DESCRIPTION:Annual Town Meeting poster 2025
URL:https://stowonthewold-tc.gov.uk/event/annual-town-meeting-2/
LOCATION:Stow Social Club\, Well Lane\, Stow on the Wold\, Glos\, GL54 1DW\, United Kingdom
CATEGORIES:Local Events
END:VEVENT
BEGIN:VEVENT
DTSTART;TZID=Europe/London:20250507T190000
DTEND;TZID=Europe/London:20250507T190000
DTSTAMP:20260422T184123
CREATED:20250327T143708Z
LAST-MODIFIED:20260416T121418Z
UID:10426-1746644400-1746644400@stowonthewold-tc.gov.uk
SUMMARY:Annual Town Meeting 2025
DESCRIPTION:
URL:https://stowonthewold-tc.gov.uk/event/annual-town-meeting-3/
LOCATION:Stow Social Club\, Well Lane\, Stow on the Wold\, Glos\, GL54 1DW\, United Kingdom
CATEGORIES:Local Events
ORGANIZER;CN="Stow on the Wold Town Council":MAILTO:info@stowonthewold-tc.gov.uk
END:VEVENT
BEGIN:VEVENT
DTSTART;TZID=Europe/London:20250424T090000
DTEND;TZID=Europe/London:20250424T130000
DTSTAMP:20260422T184123
CREATED:20241218T140037Z
LAST-MODIFIED:20241218T140037Z
UID:9989-1745485200-1745499600@stowonthewold-tc.gov.uk
SUMMARY:Farmers Market
DESCRIPTION:
URL:https://stowonthewold-tc.gov.uk/event/farmers-market-74/
LOCATION:The Square\, The Square\, Stow on the Wold\, Gloucestershire\, GL54 1AF\, United Kingdom
CATEGORIES:Local Events
END:VEVENT
BEGIN:VEVENT
DTSTART;TZID=Europe/London:20250416T180000
DTEND;TZID=Europe/London:20250416T190000
DTSTAMP:20260422T184123
CREATED:20250401T132604Z
LAST-MODIFIED:20250416T125435Z
UID:10445-1744826400-1744830000@stowonthewold-tc.gov.uk
SUMMARY:Town Clean Up
DESCRIPTION:
URL:https://stowonthewold-tc.gov.uk/event/town-clean-up/
LOCATION:Stow Youth Centre\, Fosseway\, Stow on the Wold\, Gloucestershire\, GL54 1DW\, United Kingdom
CATEGORIES:Local Events
ORGANIZER;CN="Stow on the Wold Town Council":MAILTO:info@stowonthewold-tc.gov.uk
END:VEVENT
BEGIN:VEVENT
DTSTART;TZID=Europe/London:20250410T090000
DTEND;TZID=Europe/London:20250410T130000
DTSTAMP:20260422T184123
CREATED:20241218T135959Z
LAST-MODIFIED:20241218T135959Z
UID:9986-1744275600-1744290000@stowonthewold-tc.gov.uk
SUMMARY:Farmers Market
DESCRIPTION:
URL:https://stowonthewold-tc.gov.uk/event/farmers-market-73/
LOCATION:The Square\, The Square\, Stow on the Wold\, Gloucestershire\, GL54 1AF\, United Kingdom
CATEGORIES:Local Events
END:VEVENT
BEGIN:VEVENT
DTSTART;TZID=Europe/London:20250313T090000
DTEND;TZID=Europe/London:20250313T130000
DTSTAMP:20260422T184123
CREATED:20241218T135904Z
LAST-MODIFIED:20241218T135904Z
UID:9983-1741856400-1741870800@stowonthewold-tc.gov.uk
SUMMARY:Farmers Market
DESCRIPTION:
URL:https://stowonthewold-tc.gov.uk/event/farmers-market-72/
LOCATION:The Square\, The Square\, Stow on the Wold\, Gloucestershire\, GL54 1AF\, United Kingdom
CATEGORIES:Local Events
END:VEVENT
BEGIN:VEVENT
DTSTART;TZID=Europe/London:20250213T090000
DTEND;TZID=Europe/London:20250213T130000
DTSTAMP:20260422T184123
CREATED:20241218T132735Z
LAST-MODIFIED:20241218T132735Z
UID:9980-1739437200-1739451600@stowonthewold-tc.gov.uk
SUMMARY:Farmers Market
DESCRIPTION:
URL:https://stowonthewold-tc.gov.uk/event/farmers-market-71/
LOCATION:The Square\, The Square\, Stow on the Wold\, Gloucestershire\, GL54 1AF\, United Kingdom
CATEGORIES:Local Events
END:VEVENT
BEGIN:VEVENT
DTSTART;TZID=Europe/London:20241212T090000
DTEND;TZID=Europe/London:20241212T130000
DTSTAMP:20260422T184123
CREATED:20231114T142834Z
LAST-MODIFIED:20231114T142834Z
UID:8078-1733994000-1734008400@stowonthewold-tc.gov.uk
SUMMARY:Farmers Market
DESCRIPTION:
URL:https://stowonthewold-tc.gov.uk/event/farmers-market-70/
LOCATION:The Square\, The Square\, Stow on the Wold\, Gloucestershire\, GL54 1AF\, United Kingdom
CATEGORIES:Local Events
END:VEVENT
BEGIN:VEVENT
DTSTART;TZID=Europe/London:20241206T170000
DTEND;TZID=Europe/London:20241206T180000
DTSTAMP:20260422T184123
CREATED:20241127T141829Z
LAST-MODIFIED:20241127T142344Z
UID:9842-1733504400-1733508000@stowonthewold-tc.gov.uk
SUMMARY:Police Information Point (PIP)
DESCRIPTION:A Police Information Point will be held on 6th December at Stow library between 5pm and 6pm.
URL:https://stowonthewold-tc.gov.uk/event/police-information-point-pip/
LOCATION:Stow Library
CATEGORIES:Local Events
END:VEVENT
BEGIN:VEVENT
DTSTART;TZID=Europe/London:20241206T170000
DTEND;TZID=Europe/London:20241206T180000
DTSTAMP:20260422T184123
CREATED:20241113T122117Z
LAST-MODIFIED:20241113T122140Z
UID:9687-1733504400-1733508000@stowonthewold-tc.gov.uk
SUMMARY:Christmas Lights Switch On
DESCRIPTION:Christmas lights poster
URL:https://stowonthewold-tc.gov.uk/event/christmas-lights-switch-on-2/
LOCATION:The Square\, The Square\, Stow on the Wold\, Gloucestershire\, GL54 1AF\, United Kingdom
CATEGORIES:Local Events
ORGANIZER;CN="Stow on the Wold Town Council":MAILTO:info@stowonthewold-tc.gov.uk
END:VEVENT
BEGIN:VEVENT
DTSTART;TZID=Europe/London:20241114T090000
DTEND;TZID=Europe/London:20241114T130000
DTSTAMP:20260422T184123
CREATED:20231114T142757Z
LAST-MODIFIED:20231114T142757Z
UID:8075-1731574800-1731589200@stowonthewold-tc.gov.uk
SUMMARY:Farmers Market
DESCRIPTION:
URL:https://stowonthewold-tc.gov.uk/event/farmers-market-69/
LOCATION:The Square\, The Square\, Stow on the Wold\, Gloucestershire\, GL54 1AF\, United Kingdom
CATEGORIES:Local Events
END:VEVENT
END:VCALENDAR